BEGIN:VCALENDAR
VERSION:2.0
PRODID:-//Judo Club Obernai - ECPv4.9.7//NONSGML v1.0//EN
CALSCALE:GREGORIAN
METHOD:PUBLISH
X-WR-CALNAME:Judo Club Obernai
X-ORIGINAL-URL:http://www.judo-club-obernai.com
X-WR-CALDESC:Évènements pour Judo Club Obernai
BEGIN:VTIMEZONE
TZID:"Europe/Paris"
BEGIN:DAYLIGHT
TZOFFSETFROM:+0100
TZOFFSETTO:+0200
TZNAME:CEST
DTSTART:20190331T010000
END:DAYLIGHT
BEGIN:STANDARD
TZOFFSETFROM:+0200
TZOFFSETTO:+0100
TZNAME:CET
DTSTART:20191027T010000
END:STANDARD
END:VTIMEZONE
BEGIN:VEVENT
DTSTART;TZID="Europe/Paris":20190202T093000
DTEND;TZID="Europe/Paris":20190202T170000
DTSTAMP:20260423T115942
CREATED:20181105T100626Z
LAST-MODIFIED:20181105T101141Z
UID:826-1549099800-1549126800@www.judo-club-obernai.com
SUMMARY:Compétition - District Molsheim
DESCRIPTION:Mini-poussines :9h30\nmini-poussins (-26Kg) : 10h\nmini-poussins (+26Kg) : 11h\npoussins/poussines : 13h30\nbenjamins/benjamines : 15h30\nminimes : 16h \nHoraires susceptibles de changer.\nInfos complémentaire: Comité Judo 67 \nCompétition – District Molsheim
URL:http://www.judo-club-obernai.com/event/competition-district-molsheim/
LOCATION:Salle Atalante – Molsheim\, 2 Rue Elisabeth Juneck\, Molsheim\, 67120
CATEGORIES:Compétition
END:VEVENT
END:VCALENDAR